BEGIN:VCALENDAR
VERSION:2.0
PRODID:spatie/icalendar-generator
DESCRIPTION:Events from South Bristol\, Maine
X-WR-CALDESC:Events from South Bristol\, Maine
REFRESH-INTERVAL;VALUE=DURATION:PT1440M
X-PUBLISHED-TTL:PT1440M
BEGIN:VTIMEZONE
TZID:Etc/GMT+0
BEGIN:STANDARD
DTSTART:20240413T170000Z
TZOFFSETFROM:+0000
TZOFFSETTO:+0000
END:STANDARD
END:VTIMEZONE
BEGIN:VTIMEZONE
TZID:UTC
BEGIN:STANDARD
DTSTART:20250727T221515Z
TZOFFSETFROM:+0000
TZOFFSETTO:+0000
END:STANDARD
END:VTIMEZONE
BEGIN:VEVENT
UID:117-95
DTSTAMP:20260423T221515Z
SUMMARY:Harbor Comm Mtg
LOCATION:Town Office
ORGANIZER;CN=Town Office:MAILTO:townoffice@sbristolme.gov
DTSTART;TZID=Etc/GMT+0:20250108T170000
DTEND;TZID=Etc/GMT+0:20250108T190000
X-ALT-DESC;FMTTYPE=TEXT/HTML:
CATEGORIES:General
URL;VALUE=URI:https://sbristolme.gov/mc-events/harbor-comm-mtg-2/
METHOD:PUBLISH
END:VEVENT
END:VCALENDAR