BEGIN:VCALENDAR
VERSION:2.0
PRODID:spatie/icalendar-generator
DESCRIPTION:Events from South Bristol\, Maine
X-WR-CALDESC:Events from South Bristol\, Maine
REFRESH-INTERVAL;VALUE=DURATION:PT1440M
X-PUBLISHED-TTL:PT1440M
BEGIN:VTIMEZONE
TZID:Etc/GMT+0
BEGIN:STANDARD
DTSTART:20250808T190000Z
TZOFFSETFROM:+0000
TZOFFSETTO:+0000
END:STANDARD
END:VTIMEZONE
BEGIN:VTIMEZONE
TZID:UTC
BEGIN:STANDARD
DTSTART:20250727T044735Z
TZOFFSETFROM:+0000
TZOFFSETTO:+0000
END:STANDARD
END:VTIMEZONE
BEGIN:VEVENT
UID:269-168
DTSTAMP:20260423T044735Z
SUMMARY:Planning Board Mtg
LOCATION:Town Office
ORGANIZER;CN=Town Office:MAILTO:townoffice@sbristolme.gov
RRULE:FREQ=MONTHLY;BYDAY=1TU;UNTIL=20261201T000000Z
DTSTART;TZID=Etc/GMT+0:20260505T190000
DTEND;TZID=Etc/GMT+0:20260505T200000
X-ALT-DESC;FMTTYPE=TEXT/HTML:
CATEGORIES:Meetings
URL;VALUE=URI:https://sbristolme.gov/mc-events/planning-board-mtg-13/?mc_id
 =269
METHOD:PUBLISH
END:VEVENT
END:VCALENDAR