BEGIN:VCALENDAR
VERSION:2.0
PRODID:spatie/icalendar-generator
DESCRIPTION:Events from South Bristol\, Maine
X-WR-CALDESC:Events from South Bristol\, Maine
REFRESH-INTERVAL;VALUE=DURATION:PT1440M
X-PUBLISHED-TTL:PT1440M
BEGIN:VTIMEZONE
TZID:Etc/GMT+0
BEGIN:STANDARD
DTSTART:20250613T190000Z
TZOFFSETFROM:+0000
TZOFFSETTO:+0000
END:STANDARD
END:VTIMEZONE
BEGIN:VTIMEZONE
TZID:UTC
BEGIN:STANDARD
DTSTART:20250726T091326Z
TZOFFSETFROM:+0000
TZOFFSETTO:+0000
END:STANDARD
END:VTIMEZONE
BEGIN:VEVENT
UID:257-158
DTSTAMP:20260422T091326Z
SUMMARY:ANNUAL TOWN MEETING
LOCATION:South Bristol School Gym
ORGANIZER;CN=Town Office:MAILTO:townoffice@sbristolme.gov
DTSTART;TZID=Etc/GMT+0:20260310T190000
DTEND;TZID=Etc/GMT+0:20260310T200000
X-ALT-DESC;FMTTYPE=TEXT/HTML:
CATEGORIES:Deadlines
URL;VALUE=URI:https://sbristolme.gov/mc-events/annual-town-meeting/
METHOD:PUBLISH
END:VEVENT
END:VCALENDAR